BEGIN:VCALENDAR
VERSION:2.0
PRODID:-//Rødt Larvik - ECPv6.15.20//NONSGML v1.0//EN
CALSCALE:GREGORIAN
METHOD:PUBLISH
X-ORIGINAL-URL:https://roedtlarvik.no
X-WR-CALDESC:Arrangement for Rødt Larvik
REFRESH-INTERVAL;VALUE=DURATION:PT1H
X-Robots-Tag:noindex
X-PUBLISHED-TTL:PT1H
BEGIN:VTIMEZONE
TZID:Europe/Paris
BEGIN:DAYLIGHT
TZOFFSETFROM:+0100
TZOFFSETTO:+0200
TZNAME:CEST
DTSTART:20190331T010000
END:DAYLIGHT
BEGIN:STANDARD
TZOFFSETFROM:+0200
TZOFFSETTO:+0100
TZNAME:CET
DTSTART:20191027T010000
END:STANDARD
BEGIN:DAYLIGHT
TZOFFSETFROM:+0100
TZOFFSETTO:+0200
TZNAME:CEST
DTSTART:20200329T010000
END:DAYLIGHT
BEGIN:STANDARD
TZOFFSETFROM:+0200
TZOFFSETTO:+0100
TZNAME:CET
DTSTART:20201025T010000
END:STANDARD
BEGIN:DAYLIGHT
TZOFFSETFROM:+0100
TZOFFSETTO:+0200
TZNAME:CEST
DTSTART:20210328T010000
END:DAYLIGHT
BEGIN:STANDARD
TZOFFSETFROM:+0200
TZOFFSETTO:+0100
TZNAME:CET
DTSTART:20211031T010000
END:STANDARD
BEGIN:DAYLIGHT
TZOFFSETFROM:+0100
TZOFFSETTO:+0200
TZNAME:CEST
DTSTART:20220327T010000
END:DAYLIGHT
BEGIN:STANDARD
TZOFFSETFROM:+0200
TZOFFSETTO:+0100
TZNAME:CET
DTSTART:20221030T010000
END:STANDARD
BEGIN:DAYLIGHT
TZOFFSETFROM:+0100
TZOFFSETTO:+0200
TZNAME:CEST
DTSTART:20230326T010000
END:DAYLIGHT
BEGIN:STANDARD
TZOFFSETFROM:+0200
TZOFFSETTO:+0100
TZNAME:CET
DTSTART:20231029T010000
END:STANDARD
BEGIN:DAYLIGHT
TZOFFSETFROM:+0100
TZOFFSETTO:+0200
TZNAME:CEST
DTSTART:20240331T010000
END:DAYLIGHT
BEGIN:STANDARD
TZOFFSETFROM:+0200
TZOFFSETTO:+0100
TZNAME:CET
DTSTART:20241027T010000
END:STANDARD
END:VTIMEZONE
BEGIN:VEVENT
DTSTART;VALUE=DATE:20230506
DTEND;VALUE=DATE:20230507
DTSTAMP:20260420T185225
CREATED:20230325T212949Z
LAST-MODIFIED:20230325T212949Z
UID:1045-1683331200-1683417599@roedtlarvik.no
SUMMARY:Aksjonsdag 6. mai: Valgkampstart
DESCRIPTION:https://roedt.no/aksjonsdag-06-05-23
URL:https://roedtlarvik.no/event/aksjonsdag-6-mai-valgkampstart/
LOCATION:Vestfold
CATEGORIES:Aksjonsdag
END:VEVENT
BEGIN:VEVENT
DTSTART;VALUE=DATE:20230501
DTEND;VALUE=DATE:20230502
DTSTAMP:20260420T185225
CREATED:20230401T133954Z
LAST-MODIFIED:20230429T161442Z
UID:1057-1682899200-1682985599@roedtlarvik.no
SUMMARY:1. Mai 2023 Arbeiderbevegelsens Internasjonale Kampdag
DESCRIPTION:https://roedt.no/1mai \nMøt opp 1145 på torget for toget som går 1200
URL:https://roedtlarvik.no/event/1-mai-2023-arbeiderbevegelsens-internasjonale-kampdag/
LOCATION:Vestfold
END:VEVENT
BEGIN:VEVENT
DTSTART;VALUE=DATE:20230421
DTEND;VALUE=DATE:20230424
DTSTAMP:20260420T185225
CREATED:20230325T213216Z
LAST-MODIFIED:20230325T213216Z
UID:1047-1682035200-1682294399@roedtlarvik.no
SUMMARY:Landsmøte 2023
DESCRIPTION:Rødts neste landsmøte blir fredag 21. april til søndag 23. april 2023 i Stavanger. \nhttps://roedt.no/landsmote-2023
URL:https://roedtlarvik.no/event/landsmote-2023/
LOCATION:Vestfold
CATEGORIES:Landsmøte
END:VEVENT
BEGIN:VEVENT
DTSTART;TZID=Europe/Paris:20230413T180000
DTEND;TZID=Europe/Paris:20230413T200000
DTSTAMP:20260420T185225
CREATED:20230401T134121Z
LAST-MODIFIED:20230401T134121Z
UID:1059-1681408800-1681416000@roedtlarvik.no
SUMMARY:Skoleringsmøte - Havvind
DESCRIPTION:For medlemmer
URL:https://roedtlarvik.no/event/skoleringsmote-havvind/
LOCATION:Larvik rådhus\, Romberggata 4\, Larvik\, Vestfold\, 3256\, Norge
END:VEVENT
BEGIN:VEVENT
DTSTART;TZID=Europe/Paris:20230314T180000
DTEND;TZID=Europe/Paris:20230314T180000
DTSTAMP:20260420T185225
CREATED:20230308T174942Z
LAST-MODIFIED:20230308T174942Z
UID:1028-1678816800-1678816800@roedtlarvik.no
SUMMARY:Nominasjonsmøte
DESCRIPTION:Alle medlemmer ønskes velkommen til nominasjonsmøte tirsdag 14 mars kl 18:00 på folkets hus hvor vi vil velge hvem som skal stille til valg for oss i kommunevalget.
URL:https://roedtlarvik.no/event/nominasjonsmote/
LOCATION:Folkets hus\, Brannvaktsgate 23\, Larvik\, Vestfold\, 3256\, Norge
END:VEVENT
BEGIN:VEVENT
DTSTART;TZID=Europe/Paris:20220407T180000
DTEND;TZID=Europe/Paris:20220407T200000
DTSTAMP:20260420T185225
CREATED:20220331T090327Z
LAST-MODIFIED:20220911T204258Z
UID:998-1649354400-1649361600@roedtlarvik.no
SUMMARY:Åpent møte 7 april - Antirasisme og SIAN
DESCRIPTION:23 april har SIAN planlagt å dra til Sandefjord\, og med dette som bakteppe arrangerer vi åpent møte 7 april kl 18:00 på folkets hus i Larvik med tema antirasisme og sian . Maria Wasvik\, rådgiver for Antirasistisk senter og medlem i Rødt Larvik kommer som innleder.
URL:https://roedtlarvik.no/event/apent-mote-7-april-antirasisme-og-sian/
LOCATION:Folkets hus\, Brannvaktsgate 23\, Larvik\, Vestfold\, 3256\, Norge
CATEGORIES:Åpent møte
END:VEVENT
BEGIN:VEVENT
DTSTART;TZID=Europe/Paris:20220319T120000
DTEND;TZID=Europe/Paris:20220319T140000
DTSTAMP:20260420T185225
CREATED:20220311T051421Z
LAST-MODIFIED:20220311T051421Z
UID:995-1647691200-1647698400@roedtlarvik.no
SUMMARY:Aksjonsdag!
DESCRIPTION:Stand ved Larvik torg. \nmer info kommer
URL:https://roedtlarvik.no/event/aksjonsdag/
LOCATION:Amfi\, Nansetgata 6\, Larvik\, Norge
CATEGORIES:Aksjon,Stand
END:VEVENT
BEGIN:VEVENT
DTSTART;TZID=Europe/Paris:20220223T180000
DTEND;TZID=Europe/Paris:20220223T180000
DTSTAMP:20260420T185225
CREATED:20220129T205646Z
LAST-MODIFIED:20220225T170913Z
UID:970-1645639200-1645639200@roedtlarvik.no
SUMMARY:Ta strømmen tilbake – ikke la markedet bestemme!
DESCRIPTION:Rødt Larvik inviterer til åpent møte på Folkets hus onsdag 23. februar klokka 18:00 der Boye Ullmann\, faglig sekretær i Rødt og aktiv i Industriaksjonen\, innleder til debatt. Vi ønsker innspill og meninger fra mange – møt opp og diskuter!\n\nStrømprisene har gått amok denne vinteren og alle stortingspartier – bortsett fra Rødt – ser ut til å ha glemt at det hele starta med endringene av Energiloven i 1991. Rødt har hele tida jobba i mot at strøm skal behandles som en handelsvare og mot at en gjennom politiske vedtak\, med viten og vilje har skapt et marked for strømmen.\n\nVi følger de prinsipielle lange linjene og ser på hva det politiske flertallet har gjort. Trinn for trinn. Målet er å forstå hvorfor vi havna der vi er nå\, men enda viktigere er det å skjønne hvordan vi kan ta strømmen av markedet. Kun under folkevalgt politisk kontroll kan vi bygge og trygge industri og folk i vårt langstrakte og til tider kalde land.\n\nHer spiller høyere kapasitet på salg av strøm ut av landet inn\, det samme gjør sementering og stadig liberalisering styrt av EU gjennom Acer-tilknytninga inn. Kom\, diskuter og lær!\n\nSelvsagt må kortvarige\, sosialpolitiske løsninger til i den akutte situasjonen. Folk og næringsliv må kompenseres godt\, når en allerede rik stat håver inn penger. Her gir Rødts forslag om 35 øre/kWh som fastpris på strøm en god retning.
URL:https://roedtlarvik.no/event/ta-strommen-tilbake-ikke-la-markedet-bestemme/
LOCATION:Folkets hus\, Brannvaktsgate 23\, Larvik\, Vestfold\, 3256\, Norge
CATEGORIES:Åpent møte
END:VEVENT
BEGIN:VEVENT
DTSTART;TZID=Europe/Paris:20220219T120000
DTEND;TZID=Europe/Paris:20220219T123000
DTSTAMP:20260420T185225
CREATED:20220211T105128Z
LAST-MODIFIED:20220220T153657Z
UID:984-1645272000-1645273800@roedtlarvik.no
SUMMARY:Årsmøte 2022
DESCRIPTION:Velkommen til rødt Larviks årsmøte 19 feb kl 1200 på folkets hus. Saksdokumenter kommer på mail.
URL:https://roedtlarvik.no/event/arsmote-2022/
LOCATION:Folkets hus\, Brannvaktsgate 23\, Larvik\, Vestfold\, 3256\, Norge
CATEGORIES:Årsmøte
END:VEVENT
BEGIN:VEVENT
DTSTART;TZID=Europe/Paris:20211216T180000
DTEND;TZID=Europe/Paris:20211216T200000
DTSTAMP:20260420T185225
CREATED:20211106T023029Z
LAST-MODIFIED:20211211T123658Z
UID:962-1639677600-1639684800@roedtlarvik.no
SUMMARY:Julesammling
DESCRIPTION:Avlyst\nVi møtes ved gapahuk/bålplass ved Gopledalsveien 80\, kl 18:00 \nEn sosial samling på slutten av året. Vi griller pølser og serverer noe varmt å drikke\, du tar med godt humør. Mer info kommer når det nærmer seg.
URL:https://roedtlarvik.no/event/julesammling/
LOCATION:Bålplass gopledal\, Gopledalsveien 80\, Larvik\, Norge
END:VEVENT
BEGIN:VEVENT
DTSTART;TZID=Europe/Paris:20211213T180000
DTEND;TZID=Europe/Paris:20211213T180000
DTSTAMP:20260420T185225
CREATED:20211019T172909Z
LAST-MODIFIED:20211019T174031Z
UID:917-1639418400-1639418400@roedtlarvik.no
SUMMARY:Gruppemøte: KST
DESCRIPTION:Åpent for alle medlemmer. \nSaksliste: \nhttps://innsyn.onacos.no/larvik/mote/prod/wfinnsyn.ashx?response=mote&moteid=638&fbclid=IwAR20j1BQXMqTqD9Zem2CA9WbMKu8x27cWaszFFFXktZEv6H4uM3p7blw-Kc
URL:https://roedtlarvik.no/event/gruppemote-kst-2/
LOCATION:Rombergata 4\, Romberggata 4\, Larvik
CATEGORIES:Gruppemøte
END:VEVENT
BEGIN:VEVENT
DTSTART;TZID=Europe/Paris:20211206T180000
DTEND;TZID=Europe/Paris:20211206T180000
DTSTAMP:20260420T185225
CREATED:20211019T172736Z
LAST-MODIFIED:20211019T174012Z
UID:915-1638813600-1638813600@roedtlarvik.no
SUMMARY:Gruppemøte: PU
DESCRIPTION:Åpent for alle medlemmer. \nSaksliste: \nhttps://innsyn.onacos.no/larvik/mote/prod/wfinnsyn.ashx?response=mote&moteid=655&fbclid=IwAR0b8oPpBSDk2m8bVWGFaIwoq5HCJt1HSQuH_kXD5pODz5pkCb0hKsZU5b8 \nhttps://innsyn.onacos.no/larvik/mote/prod/wfinnsyn.ashx?response=mote&moteid=656&fbclid=IwAR2NPNN8XoZedJ4er88v_PHh4Dpq2feV7VwoMPvcydaKQGwB-wM8aJqK8nM
URL:https://roedtlarvik.no/event/gruppemote-pu-2/
LOCATION:Rombergata 4\, Romberggata 4\, Larvik
CATEGORIES:Gruppemøte
END:VEVENT
BEGIN:VEVENT
DTSTART;TZID=Europe/Paris:20211202T180000
DTEND;TZID=Europe/Paris:20211202T200000
DTSTAMP:20260420T185225
CREATED:20211106T022729Z
LAST-MODIFIED:20211106T022729Z
UID:960-1638468000-1638475200@roedtlarvik.no
SUMMARY:Lagsmøte om kommuneøkonomi
DESCRIPTION:Diskusjonsmøte med Steinar\, Tom og Ina som innledere om kommunen\, eiendomsskatt og Nav. \nDet bli servert noe å bite i og brus/kaffe
URL:https://roedtlarvik.no/event/lagsmote-om-kommuneokonomi/
LOCATION:Folkets hus\, Brannvaktsgate 23\, Larvik\, Vestfold\, 3256\, Norge
CATEGORIES:Lagsmøte
END:VEVENT
BEGIN:VEVENT
DTSTART;VALUE=DATE:20211127
DTEND;VALUE=DATE:20211128
DTSTAMP:20260420T185225
CREATED:20211031T212313Z
LAST-MODIFIED:20211106T022611Z
UID:949-1637971200-1638057599@roedtlarvik.no
SUMMARY:Aktivistsamling
DESCRIPTION:Hei\, nye og gamle Rødtere i Vestfold og Telemark! \nVi har gleden av å invitere deg til Aktivist-samling på Skien videregående på Klosterøya i Skien 27. november.\nVi starter på lørdag klokka ti\, og avslutter med middag på kvelden.\nVi vil ha en bolk med litt politikk-/organisasjons-skolering\, men vi skal først og fremst ha det gøy sammen.\nDet har kommet mange nye medlemmer til i valgkamp-perioden\, i tillegg til mange som meldte seg inn i løpet ev den lange perioden med lite aktivitet fra mars 2020.\nDerfor er det på høy tid at vi møtes og blir bedre kjent\, mange har bare sett hverandre på en skjerm eller aldri.\nVi har med oss minst en vaskeekte stortingsrepresentant\, nemlig Tobias Drevland Lund!\nI tillegg vil vi ha med Joakim Møllersen fra LS.\nEndelig program kommer 18. november.
URL:https://roedtlarvik.no/event/aktivistsamling/
LOCATION:Skien videregående\, Hollenderigata 5\, Skien\, 3732\, Norge
END:VEVENT
BEGIN:VEVENT
DTSTART;TZID=Europe/Paris:20211125T200000
DTEND;TZID=Europe/Paris:20211125T210000
DTSTAMP:20260420T185225
CREATED:20211027T122531Z
LAST-MODIFIED:20211027T122948Z
UID:943-1637870400-1637874000@roedtlarvik.no
SUMMARY:Rødt Hjemmefra
DESCRIPTION:Rødt Hjemmefra er et politisk talkshow som sendes direkte på Youtube og Facebook. Det gjør det mulig å delta i Rødts arbeid fra din egen stue\, fra puben\, fra grendehuset eller lokallagskontoret. Det eneste du trenger for å delta er et ønske om en mer rettferdig verden – og en datamaskin. \nhttps://www.facebook.com/RoedtHjemmefra/
URL:https://roedtlarvik.no/event/rodt-hjemmefra-4/
LOCATION:Vestfold
CATEGORIES:Rødt Hjemmefra
ATTACH;FMTTYPE=image/jpeg:https://roedtlarvik.no/wp-content/uploads/2021/10/LA5zSofUOP0i_BLDnMdzaK6tbfW0J06Q6BrtQ-5184x3456-1.jpg
END:VEVENT
BEGIN:VEVENT
DTSTART;TZID=Europe/Paris:20211125T190000
DTEND;TZID=Europe/Paris:20211125T210000
DTSTAMP:20260420T185225
CREATED:20211106T022512Z
LAST-MODIFIED:20211106T022538Z
UID:957-1637866800-1637874000@roedtlarvik.no
SUMMARY:Lagsmøte fylkesoppløsning + Rødt Hjemmefra
DESCRIPTION:Folkets hus kl 19:00 – 21:00 \nRegjeringsplattforma har aktualisert spørsmålet om reversering av tvangssammenslåtte kommuner og fylker\, og det har gjort spørsmålet om å gå tilbake til de gamle fylkene aktuelt også her i Vestfold og Telemark. \nRødt var mot sammenslåinga. Spørsmålet er om vi skal gå inn for oppløsning. Spørsmålet kan komme opp i fylkestinget såpass fort at det ikke er tid til å vente til årsmøtet(for fylket) i mars med å ta stilling til dette. Distriktsstyret vil derfor avgjøre vårt standpunkt\, men de ønsker innspill fra lokallagene. \nVi vill ha diskusjon og sende inn våre innspill. Vi har satt det på samme dag som det er Rødt Hjemmefra\, rødts egen livesending så vi kan se på det i felleskap.\nDe som ønsker  å se det\, men kan ikke komme\, kan se det hjemme på facebook eller youtube\, info står på https://roedt.no/hjemmefra \nkl 19:00-19:55\nDiskusjon om oppløsning.\nkl 20:00-21:00\nRødt hjemmefra.
URL:https://roedtlarvik.no/event/lagsmote-fylkesopplosning-rodt-hjemmefra/
LOCATION:Folkets hus\, Brannvaktsgate 23\, Larvik\, Vestfold\, 3256\, Norge
CATEGORIES:Lagsmøte
END:VEVENT
BEGIN:VEVENT
DTSTART;TZID=Europe/Paris:20211115T180000
DTEND;TZID=Europe/Paris:20211115T180000
DTSTAMP:20260420T185225
CREATED:20211019T172013Z
LAST-MODIFIED:20211019T172145Z
UID:913-1636999200-1636999200@roedtlarvik.no
SUMMARY:Gruppemøte: PU
DESCRIPTION:Åpent for alle medlemmer. \nSaksliste: \nhttps://innsyn.onacos.no/larvik/mote/prod/wfinnsyn.ashx?response=mote&moteid=657&fbclid=IwAR3RJmtnQjp74qYllza3bE_vjAb-VMyTF18hNgOEAa4HmtlX0BBcDPVhSho \nhttps://innsyn.onacos.no/larvik/mote/prod/wfinnsyn.ashx?response=mote&moteid=654&fbclid=IwAR2Tp8bg_VCRDQkwJeG9QqNE6VwY_m5r3YGRW-wRED2Am6zAy7YQj9czP0M
URL:https://roedtlarvik.no/event/gruppemote-pu/
LOCATION:Rombergata 4\, Romberggata 4\, Larvik
CATEGORIES:Gruppemøte
END:VEVENT
BEGIN:VEVENT
DTSTART;TZID=Europe/Paris:20211108T180000
DTEND;TZID=Europe/Paris:20211108T190000
DTSTAMP:20260420T185225
CREATED:20211019T112422Z
LAST-MODIFIED:20211019T172942Z
UID:909-1636394400-1636398000@roedtlarvik.no
SUMMARY:Gruppemøte: KST
DESCRIPTION:Åpent for alle medlemmer. \nSaksliste: \nhttps://innsyn.onacos.no/larvik/mote/prod/wfinnsyn.ashx?response=mote&moteid=637&fbclid=IwAR1i7OUtucg2s_n07vBFv0flbeqHD2ReKTP0C_NR9c4cNoAG-JZ0Ktca23Q
URL:https://roedtlarvik.no/event/gruppemote-kst/
LOCATION:Rombergata 4\, Romberggata 4\, Larvik
CATEGORIES:Gruppemøte
END:VEVENT
BEGIN:VEVENT
DTSTART;TZID=Europe/Paris:20211026T180000
DTEND;TZID=Europe/Paris:20211026T180000
DTSTAMP:20260420T185225
CREATED:20211021T032632Z
LAST-MODIFIED:20211021T032632Z
UID:938-1635271200-1635271200@roedtlarvik.no
SUMMARY:Medlemsmøte om Vestfold og Telemark fylke
DESCRIPTION:Spørsmålet om oppløsning av Vestfold og Telemark fylkeskommune presser seg frem fra flere kanter. Både Vestfold Rødt og Telemark Rødt var mot denne samenslåingen\, men vi har ikke tatt et endelig standpunkt til om vi ønsker en oppløsning velkommen\, og i så fall hvordan vi best mener den må gjøres. Som en start på dette arbeidet\, inviterer fylkesstyret alle medlemmer i Vestfold til medlemsmøte tirsdag 26. oktober\, klokka 18.00 på fylkeshuset i Tønsberg.
URL:https://roedtlarvik.no/event/medlemsmote-om-vestfold-og-telemark-fylke/
LOCATION:Fylkeshuset Tønsberg\, Svend Foyns gate 9\, Tønsberg\, 3126\, Norge
CATEGORIES:Lagsmøte
END:VEVENT
BEGIN:VEVENT
DTSTART;TZID=Europe/Paris:20211023T120000
DTEND;TZID=Europe/Paris:20211023T140000
DTSTAMP:20260420T185225
CREATED:20211019T195132Z
LAST-MODIFIED:20230308T174528Z
UID:926-1634990400-1634997600@roedtlarvik.no
SUMMARY:Aksjonsdag for klima og miljø 23 oktober
DESCRIPTION:Valgkampen er over\, men kampen for klimaet tar aldri pause!\nLørdag 23. oktober arrangerer Rødt nasjonal aksjonsdag for klima og miljø. Etter tidenes grasrotvalgkamp med tidenes resultat\, er det på tide å brette opp ermene igjen. Rødt er ingen valgkampmaskin\, men en grasrotbevegelse som jobber ute med folk og i bevegelsene hele året. \nI Larvik vil vi stå på stand utenfor Norli/Amfi  kl 1200-1400 for å dele ut matriell og snakker med folk. \n  \nhttps://roedt.no/kode-rod
URL:https://roedtlarvik.no/event/aksjonsdag-for-klima-og-miljo-23-oktober/
LOCATION:Amfi\, Nansetgata 6\, Larvik\, Norge
CATEGORIES:Stand
ATTACH;FMTTYPE=image/png:https://roedtlarvik.no/wp-content/uploads/2021/10/1.png
END:VEVENT
BEGIN:VEVENT
DTSTART;TZID=Europe/Paris:20211021T180000
DTEND;TZID=Europe/Paris:20211021T200000
DTSTAMP:20260420T185225
CREATED:20211019T195442Z
LAST-MODIFIED:20220911T182021Z
UID:931-1634839200-1634846400@roedtlarvik.no
SUMMARY:Lagsmøte 21 oktober
DESCRIPTION:Vi inviterer medlemmer til lagsmøte torsdag 21 oktober kl 18:00 til 20:00 på Rombergata 4/Rådhuset.\nVi har fått mange nye medlemmer så dette møtet er spesielt rettet mot de\, men alle medlemmer er velkommen. \n\nVi vil ha en liten hilserunde for å bli kjent\nMartin og Steinar vil snakke litt om Rødt i larvik kommune\, hva vi driver med og hvordan du kan engasjere deg.\nEn liten valgkamp oppsumering
URL:https://roedtlarvik.no/event/lagsmote-21-oktober/
LOCATION:Rombergata 4\, Romberggata 4\, Larvik
CATEGORIES:Lagsmøte
END:VEVENT
BEGIN:VEVENT
DTSTART;TZID=Europe/Paris:20210816T200000
DTEND;TZID=Europe/Paris:20210816T200000
DTSTAMP:20260420T185225
CREATED:20210720T180406Z
LAST-MODIFIED:20210720T180406Z
UID:876-1629144000-1629144000@roedtlarvik.no
SUMMARY:Rødt Hjemmefra
DESCRIPTION:https://roedt.no/hjemmefra
URL:https://roedtlarvik.no/event/rodt-hjemmefra-3/
LOCATION:Vestfold
END:VEVENT
BEGIN:VEVENT
DTSTART;TZID=Europe/Paris:20210805T200000
DTEND;TZID=Europe/Paris:20210805T200000
DTSTAMP:20260420T185225
CREATED:20210720T180223Z
LAST-MODIFIED:20210720T180223Z
UID:872-1628193600-1628193600@roedtlarvik.no
SUMMARY:Rødt Hjemmefra
DESCRIPTION:https://roedt.no/hjemmefra
URL:https://roedtlarvik.no/event/rodt-hjemmefra-2/
LOCATION:Vestfold
END:VEVENT
BEGIN:VEVENT
DTSTART;VALUE=DATE:20210501
DTEND;VALUE=DATE:20210502
DTSTAMP:20260420T185225
CREATED:20210424T062816Z
LAST-MODIFIED:20210424T062816Z
UID:862-1619827200-1619913599@roedtlarvik.no
SUMMARY:1 Mai 2021
DESCRIPTION:1. mai er arbeidernes internasjonale kampdag.
URL:https://roedtlarvik.no/event/1-mai-2021/
LOCATION:Vestfold
END:VEVENT
BEGIN:VEVENT
DTSTART;TZID=Europe/Paris:20210430T200000
DTEND;TZID=Europe/Paris:20210430T210000
DTSTAMP:20260420T185225
CREATED:20210424T063143Z
LAST-MODIFIED:20220911T174903Z
UID:864-1619812800-1619816400@roedtlarvik.no
SUMMARY:Rødt Hjemmefra // 1. mai-spesial
DESCRIPTION:1. mai er arbeidernes internasjonale kampdag\, men i år vil vi ikke kunne samles for å gå i tog. Derfor lager vi en spesialsending kvelden før den store dagen. Programleder Silje Kjosbakken loser oss gjennom følgende innslag:\n\n Hovedgjesten denne gang er Stine Westrum\, leder av Fagforbundet Helse\, Sosial og Velferd Oslo og 3. kandidat for Rødt Oslo i stortingsvalget. Hun skal blant annet snakke om arbeidslivspolitikk og en av Rødts hovedsaker i valgkampen – profittfri velferd.\n\n Vi fortsetter spalten «Bli kjent med kandidaten» der du denne gangen får møte 1. kandidat i Østfold\, Hannah Berg.\n\n I tillegg får du nyttige tips til hvordan du kan markere 1. mai digitalt.\n\n Flere innslag annonseres fortløpende.\nSe sendinga live på Rødts Facebook eller på https://www.youtube.com/watch?v=By82NKbEVpY\nhttp://roedt.no/hjemmefra
URL:https://roedtlarvik.no/event/rodt-hjemmefra-1-mai-spesial-2/
LOCATION:Vestfold
CATEGORIES:Rødt Hjemmefra
ATTACH;FMTTYPE=image/jpeg:https://roedtlarvik.no/wp-content/uploads/2021/04/176444707_10159677292624068_1078434633514501919_n.jpg
END:VEVENT
BEGIN:VEVENT
DTSTART;TZID=Europe/Paris:20210325T200000
DTEND;TZID=Europe/Paris:20210325T200000
DTSTAMP:20260420T185225
CREATED:20210226T095204Z
LAST-MODIFIED:20210226T095321Z
UID:854-1616702400-1616702400@roedtlarvik.no
SUMMARY:Rødt Hjemmefra
DESCRIPTION:Vi nærmer oss den lange valgkampen med stormskritt. 25. mars tjuvstarter vi litt med ny sending av Rødts digitale talk show «Rødt Hjemmefra». \nI sendinga får vi besøk av flere representanter for bevegelser og organisasjoner som er enige med Rødt i at det ikke holder med ny regjering\, vi trenger også ny politisk kurs. \nVi kan dessuten love en statusoppdatering på målingene og utsikten fram mot det svært spennende stortingvalget 13. september. \nSendingen kan strømmes via Rødts Facebook-side\, på Rødts youtube-kanal eller på rødt.no/hjemmefra.
URL:https://roedtlarvik.no/event/rodt-hjemmefra/
LOCATION:Vestfold
CATEGORIES:Rødt Hjemmefra
ATTACH;FMTTYPE=image/png:https://roedtlarvik.no/wp-content/uploads/2021/02/unnamed-1.png
END:VEVENT
BEGIN:VEVENT
DTSTART;VALUE=DATE:20210304
DTEND;VALUE=DATE:20210308
DTSTAMP:20260420T185225
CREATED:20210226T101632Z
LAST-MODIFIED:20210226T101632Z
UID:858-1614816000-1615161599@roedtlarvik.no
SUMMARY:Landsmøte 2021
DESCRIPTION:Rødts neste landsmøte avholdes 4. – 7. mars 2021. mars 2021. \nLandsmøtet vil gjennomføres digitalt for første gang. \nBlant sakene som skal diskuteres og vedtas er arbeidsprogrammet\, valg av ledelse og partiets viktigste planer de kommende to årene. \nLandsmøtet kan følges på stream som blir lagt ut på: https://roedt.no/landsmote-2021.
URL:https://roedtlarvik.no/event/landsmote-2021/
LOCATION:Vestfold
CATEGORIES:Landsmøte
END:VEVENT
BEGIN:VEVENT
DTSTART;TZID=Europe/Paris:20210220T120000
DTEND;TZID=Europe/Paris:20210220T140000
DTSTAMP:20260420T185225
CREATED:20210207T001630Z
LAST-MODIFIED:20210207T001630Z
UID:846-1613822400-1613829600@roedtlarvik.no
SUMMARY:Årsmøte Rødt Larvik 2021
DESCRIPTION:Årsmøte vil være digitalt på zoom. Saksdokumenter kommer på epost.
URL:https://roedtlarvik.no/event/arsmote-rodt-larvik-2021/
LOCATION:Vestfold
CATEGORIES:Årsmøte
END:VEVENT
BEGIN:VEVENT
DTSTART;TZID=Europe/Paris:20201126T200000
DTEND;TZID=Europe/Paris:20201126T200000
DTSTAMP:20260420T185225
CREATED:20201105T184539Z
LAST-MODIFIED:20201105T184539Z
UID:828-1606420800-1606420800@roedtlarvik.no
SUMMARY:Rødt Hjemmefra // Arbeidsliv i krisetid
DESCRIPTION:Torsdag 26. november er det endelig klart for en ny sending av Rødt Hjemmefra. I denne sendinga får vi besøk av Marie Sneve Martinussen som skal fortelle mer om kampen for arbeidsløse og permittertes rettigheter. Hun skal også snakke om Rødts alternative statsbudsjett. Bjørnar Moxnes har møtt noen av dem som har vært i streik i høst. Og dessuten lover vi en spennende overraskelsesgjest som skal avsløre et aldri så lite juleprosjekt.\nLurer du på Rødts krisepolitikk? Skal du være med på valgkampen neste år? Da må du få med deg denne sendinga!\n\n\nTune in på Facebook eller YouTube kl 20:00\n\nhttp://roedt.no/hjemmefra
URL:https://roedtlarvik.no/event/rodt-hjemmefra-arbeidsliv-i-krisetid/
LOCATION:Vestfold
END:VEVENT
END:VCALENDAR